BEGIN:VCALENDAR
VERSION:2.0
PRODID:icalendar-ruby
CALSCALE:GREGORIAN
BEGIN:VEVENT
DTSTAMP:20260420T084902Z
UID:4ecb0b18-e979-4568-a3ba-c1c8a228fb1f
DTSTART;VALUE=DATE:20250430
DESCRIPTION:Property ID# 590587\, Locatoin: Harcourts Tawa Realty Ltd\, 215
  Main Road\, Tawa\, Time: 4:00PM
SUMMARY:Auction for 
END:VEVENT
END:VCALENDAR
