BEGIN:VCALENDAR
VERSION:2.0
PRODID:icalendar-ruby
CALSCALE:GREGORIAN
BEGIN:VEVENT
DTSTAMP:20260422T113426Z
UID:a83139e9-fd0b-49a7-9107-ad31bb979658
DTSTART;VALUE=DATE:20211104
DESCRIPTION:Property ID# 519234\, Locatoin: 149 Johnsonville Road\, Johnson
 ville\, Time: 1:00PM
SUMMARY:Auction for 
END:VEVENT
END:VCALENDAR
