BEGIN:VCALENDAR
VERSION:2.0
PRODID:icalendar-ruby
CALSCALE:GREGORIAN
BEGIN:VEVENT
DTSTAMP:20260422T083601Z
UID:97b097a5-35f6-406c-840a-97816c43b018
DTSTART;VALUE=DATE:20210520
DESCRIPTION:Property ID# 508721\, Locatoin: Ray White Johnsonville office\,
  Time: 2:00PM
SUMMARY:Auction for 
END:VEVENT
END:VCALENDAR
