BEGIN:VCALENDAR
VERSION:2.0
PRODID:icalendar-ruby
CALSCALE:GREGORIAN
BEGIN:VEVENT
DTSTAMP:20260423T000738Z
UID:01e4e3c7-90ce-41ca-bbdf-3a5432877e0d
DTSTART;VALUE=DATE:20210331
DESCRIPTION:Property ID# 504369\, Locatoin: Level 1\, 77 Thorndon Quay\, Pi
 pitea Wellington \, Time: 1:00PM
SUMMARY:Auction for 
END:VEVENT
END:VCALENDAR
