BEGIN:VCALENDAR
VERSION:2.0
PRODID:icalendar-ruby
CALSCALE:GREGORIAN
BEGIN:VEVENT
DTSTAMP:20260424T082304Z
UID:9b2bdf53-a176-46d3-915f-c8615e14f52a
DTSTART;VALUE=DATE:20200917
DESCRIPTION:Property ID# 488052\, Locatoin: 149 Johnsonville Raod\, Johnson
 ville\, Wellington 6037\, Time: 12:00PM
SUMMARY:Auction for 
END:VEVENT
END:VCALENDAR
