BEGIN:VCALENDAR
VERSION:2.0
PRODID:icalendar-ruby
CALSCALE:GREGORIAN
BEGIN:VEVENT
DTSTAMP:20260422T114619Z
UID:16c27258-9103-44d8-9fb2-02a2ce66f3a3
DTSTART;VALUE=DATE:20200813
DESCRIPTION:Property ID# 486256\, Locatoin: 149 Johnsonville Raod\, Johnson
 ville\, Wellington 6037\, Time: 1:00PM
SUMMARY:Auction for 
END:VEVENT
END:VCALENDAR
