BEGIN:VCALENDAR
VERSION:2.0
PRODID:icalendar-ruby
CALSCALE:GREGORIAN
BEGIN:VEVENT
DTSTAMP:20260424T000625Z
UID:51e0772e-ffb8-4c94-9b2f-4dcf30124343
DTSTART;VALUE=DATE:20200624
DESCRIPTION:Property ID# 482686\, Locatoin: 20 Moorefield Road\, Johnsonvil
 le \, Time: 12:00PM
SUMMARY:Auction for 
END:VEVENT
END:VCALENDAR
