BEGIN:VCALENDAR
VERSION:2.0
PRODID:icalendar-ruby
CALSCALE:GREGORIAN
BEGIN:VEVENT
DTSTAMP:20260422T155127Z
UID:6c0b2ca9-93b6-4ba0-95c5-a013def89b09
DTSTART;VALUE=DATE:20200326
DESCRIPTION:Property ID# 474400\, Locatoin: 149 Johnsonville Raod\, Johnson
 ville\, Wellington 6037\, Time: 1:00PM
SUMMARY:Auction for 
END:VEVENT
END:VCALENDAR
